BEGIN:VCALENDAR
VERSION:2.0
PRODID:-//FSSI - ECPv4.9.13//NONSGML v1.0//EN
CALSCALE:GREGORIAN
METHOD:PUBLISH
X-WR-CALNAME:FSSI
X-ORIGINAL-URL:https://attivita.fssi.it
X-WR-CALDESC:Eventi per FSSI
BEGIN:VTIMEZONE
TZID:Europe/Rome
BEGIN:DAYLIGHT
TZOFFSETFROM:+0100
TZOFFSETTO:+0200
TZNAME:CEST
DTSTART:20170326T010000
END:DAYLIGHT
BEGIN:STANDARD
TZOFFSETFROM:+0200
TZOFFSETTO:+0100
TZNAME:CET
DTSTART:20171029T010000
END:STANDARD
END:VTIMEZONE
BEGIN:VEVENT
DTSTART;TZID=Europe/Rome:20170319T110000
DTEND;TZID=Europe/Rome:20170319T130000
DTSTAMP:20260420T223554
CREATED:20170210T105848Z
LAST-MODIFIED:20170210T111533Z
UID:13418-1489921200-1489928400@attivita.fssi.it
SUMMARY:Supercoppa FSSI Calcio A5
DESCRIPTION:La società sportiva Real e Non Solo il giorno 19 Marzo organizza la Supercoppa Italiana FSSI di Calcio A5\, presso il Palasport “Sandro Pertini” \nVisualizza il Comunicato Ufficiale n.7/2017 \n
URL:https://attivita.fssi.it/calendario/supercoppa-fssi-calcio-a5/
LOCATION:Palasport Sandro pertini\, Via dello Sport 70\, Cornaredo\, 20010\, Italia
CATEGORIES:Calcio A5
ATTACH;FMTTYPE=image/png:https://attivita.fssi.it/wp-content/uploads/2017/02/Schermata-2017-02-10-alle-11.49.15.png
END:VEVENT
END:VCALENDAR