BEGIN:VCALENDAR
VERSION:2.0
PRODID:-//FSSI - ECPv4.9.13//NONSGML v1.0//EN
CALSCALE:GREGORIAN
METHOD:PUBLISH
X-WR-CALNAME:FSSI
X-ORIGINAL-URL:https://attivita.fssi.it
X-WR-CALDESC:Eventi per FSSI
BEGIN:VTIMEZONE
TZID:Europe/Rome
BEGIN:DAYLIGHT
TZOFFSETFROM:+0100
TZOFFSETTO:+0200
TZNAME:CEST
DTSTART:20150329T010000
END:DAYLIGHT
BEGIN:STANDARD
TZOFFSETFROM:+0200
TZOFFSETTO:+0100
TZNAME:CET
DTSTART:20151025T010000
END:STANDARD
END:VTIMEZONE
BEGIN:VEVENT
DTSTART;TZID=Europe/Rome:20150530T080000
DTEND;TZID=Europe/Rome:20150530T170000
DTSTAMP:20260421T040935
CREATED:20150309T143531Z
LAST-MODIFIED:20150309T143723Z
UID:7240-1432972800-1433005200@attivita.fssi.it
SUMMARY:Pesca Individuale e Squadre con Feeder
DESCRIPTION:La FSSI indice ed organizza con la collaborazione dell’ASD Reggio Emilia e l’assistenza tecnica della FIPSAS di Reggio Emilia\, per il giorno Sabato 30 Maggio 2015 la Gara Nazionale di Pesca Sportiva con Feeder riservato a tutti i pescatori sordi. \nVisualizza il programma: Pesca FEEDER 2015\nModulo di iscrizione: Pesca FEEDER 2015 Modulo Iscrizione \n  \n  \n
URL:https://attivita.fssi.it/calendario/pesca-individuale-e-squadre-con-feeder/
LOCATION:Cavo Fiuma Mandria Vecchia\, D. Marchesi - Ponte MANDRIA\, Boretto\, 42022\, Italia
CATEGORIES:Pesca Sportiva
ATTACH;FMTTYPE=image/png:https://attivita.fssi.it/wp-content/uploads/2015/03/Schermata-2015-03-09-alle-15.30.42.png
END:VEVENT
END:VCALENDAR