BEGIN:VCALENDAR
VERSION:2.0
PRODID:-//FSSI - ECPv4.9.13//NONSGML v1.0//EN
CALSCALE:GREGORIAN
METHOD:PUBLISH
X-WR-CALNAME:FSSI
X-ORIGINAL-URL:https://attivita.fssi.it
X-WR-CALDESC:Eventi per FSSI
BEGIN:VTIMEZONE
TZID:Europe/Rome
BEGIN:DAYLIGHT
TZOFFSETFROM:+0100
TZOFFSETTO:+0200
TZNAME:CEST
DTSTART:20190331T010000
END:DAYLIGHT
BEGIN:STANDARD
TZOFFSETFROM:+0200
TZOFFSETTO:+0100
TZNAME:CET
DTSTART:20191027T010000
END:STANDARD
END:VTIMEZONE
BEGIN:VEVENT
DTSTART;VALUE=DATE:20190627
DTEND;VALUE=DATE:20190707
DTSTAMP:20260421T025736
CREATED:20190109T114721Z
LAST-MODIFIED:20190711T092802Z
UID:22768-1561593600-1562457599@attivita.fssi.it
SUMMARY:PALLACANESTRO – Campionato Mondiale
DESCRIPTION:Visita il sito ufficiale:\nhttp://www.2019wdbc.pl/ \n
URL:https://attivita.fssi.it/calendario/pallacanestro-campionato-mondiale-3/
LOCATION:Lublin (POL)\, Lublin\, Poland
CATEGORIES:Internazionale,Pallacanestro
ATTACH;FMTTYPE=image/png:https://attivita.fssi.it/wp-content/uploads/2019/01/httpwww.2019wdbc.plposter.png
END:VEVENT
END:VCALENDAR