BEGIN:VCALENDAR
VERSION:2.0
PRODID:-//FSSI - ECPv4.9.13//NONSGML v1.0//EN
CALSCALE:GREGORIAN
METHOD:PUBLISH
X-WR-CALNAME:FSSI
X-ORIGINAL-URL:https://attivita.fssi.it
X-WR-CALDESC:Eventi per FSSI
BEGIN:VTIMEZONE
TZID:Europe/Rome
BEGIN:DAYLIGHT
TZOFFSETFROM:+0100
TZOFFSETTO:+0200
TZNAME:CEST
DTSTART:20190331T010000
END:DAYLIGHT
BEGIN:STANDARD
TZOFFSETFROM:+0200
TZOFFSETTO:+0100
TZNAME:CET
DTSTART:20191027T010000
END:STANDARD
END:VTIMEZONE
BEGIN:VEVENT
DTSTART;VALUE=DATE:20190525
DTEND;VALUE=DATE:20190526
DTSTAMP:20260421T020354
CREATED:20190109T084636Z
LAST-MODIFIED:20190607T205631Z
UID:22760-1558742400-1558828799@attivita.fssi.it
SUMMARY:ORIENTAMENTO - Sprint e Long
DESCRIPTION:Visualizza gli allegati:\nModulo di Iscrizione Sprint e Long\nProgramma Campionato Italiano Orientamento Sprint e Long \n
URL:https://attivita.fssi.it/calendario/orientamento-sprint/
LOCATION:Vedano al Lambro (MB)\, Vedano al Lambro (MB)\, Italia
CATEGORIES:Orientamento
ATTACH;FMTTYPE=image/png:https://attivita.fssi.it/wp-content/uploads/2019/01/Schermata-2019-05-03-alle-08.20.41.png
ORGANIZER;CN="USS%20Bergamo":MAILTO:ussbergamo@attivita.fssi.it
END:VEVENT
END:VCALENDAR