BEGIN:VCALENDAR
VERSION:2.0
PRODID:-//FSSI - ECPv4.9.13//NONSGML v1.0//EN
CALSCALE:GREGORIAN
METHOD:PUBLISH
X-WR-CALNAME:FSSI
X-ORIGINAL-URL:https://attivita.fssi.it
X-WR-CALDESC:Eventi per FSSI
BEGIN:VTIMEZONE
TZID:Europe/Rome
BEGIN:DAYLIGHT
TZOFFSETFROM:+0100
TZOFFSETTO:+0200
TZNAME:CEST
DTSTART:20180325T010000
END:DAYLIGHT
BEGIN:STANDARD
TZOFFSETFROM:+0200
TZOFFSETTO:+0100
TZNAME:CET
DTSTART:20181028T010000
END:STANDARD
END:VTIMEZONE
BEGIN:VEVENT
DTSTART;VALUE=DATE:20180520
DTEND;VALUE=DATE:20180521
DTSTAMP:20260421T033604
CREATED:20180409T202527Z
LAST-MODIFIED:20180830T070118Z
UID:18617-1526774400-1526860799@attivita.fssi.it
SUMMARY:MTB - Marathon
DESCRIPTION:La manifestazione\, denominata “Campionato Italiano F.S.S.I. di Marathon Mountain Bike”\, è organizzata da A.s.d. Polisportiva Silenziosa Partenopea F. Rubimo Napoli\, in collaborazione con A.s.d. Vesuvio Mountain Bike\, con la Federazione Sport Sordi Italia (FSSI) e con il Deaf Mtb Cup. \nVisualizza allegati:\nCampionato Italiano MTB Marathon 2018 \n
URL:https://attivita.fssi.it/calendario/mtb-marathon-2018/
LOCATION:Napoli\, Via Plinio n.1\, Casalnuovo\, 80013 
CATEGORIES:MTB
ATTACH;FMTTYPE=image/png:https://attivita.fssi.it/wp-content/uploads/2018/04/Schermata-2018-05-03-alle-12.13.08.png
ORGANIZER;CN="PSP%20Rubino%20Napoli":MAILTO:psprubinonapoli@attivita.fssi.it
END:VEVENT
END:VCALENDAR