BEGIN:VCALENDAR
VERSION:2.0
PRODID:-//FSSI - ECPv4.9.13//NONSGML v1.0//EN
CALSCALE:GREGORIAN
METHOD:PUBLISH
X-WR-CALNAME:FSSI
X-ORIGINAL-URL:https://attivita.fssi.it
X-WR-CALDESC:Eventi per FSSI
BEGIN:VTIMEZONE
TZID:Europe/Rome
BEGIN:DAYLIGHT
TZOFFSETFROM:+0100
TZOFFSETTO:+0200
TZNAME:CEST
DTSTART:20180325T010000
END:DAYLIGHT
BEGIN:STANDARD
TZOFFSETFROM:+0200
TZOFFSETTO:+0100
TZNAME:CET
DTSTART:20181028T010000
END:STANDARD
END:VTIMEZONE
BEGIN:VEVENT
DTSTART;VALUE=DATE:20180915
DTEND;VALUE=DATE:20180917
DTSTAMP:20260421T004447
CREATED:20180407T194909Z
LAST-MODIFIED:20180920T065652Z
UID:18497-1536969600-1537142399@attivita.fssi.it
SUMMARY:MTB – Cronoscalata
DESCRIPTION:La manifestazione\, denominata: 3° prova Deaf Mtb Cup di Cross Country e Cronoscalata 2018″ è organizzata dal Deaf Mtb Cup\, con la collaborazione dell’A.s.d. Ens Scaligera (Verona).\nLa gara di cronoscalata (UXC) è valida per l’assegnazione del titolo di “Campione Italiano FSSI di cronoscalata mtb”.\nLe due gare sono riconosciute dalla F.S.S.I. (Federazione Sport Sordi Italia) La gara è valida per l’ assegnazione del titolo di Campione Regionale Veneto F.S.S.I 2018 di Cross Country (XCO) per atleti nati e/o residenti nella Regione Veneto. \nVisualizza gli allegati:\nCampionato Italiano Mountain Bike Cronoscalata\nDeafmtbcup rosaro 2017\nLogistica Hotel \n
URL:https://attivita.fssi.it/calendario/mtb-cronoscalata/
LOCATION:Rosaro di Grezzana\, Grezzana\, 37023\, Italia
CATEGORIES:MTB
ATTACH;FMTTYPE=image/png:https://attivita.fssi.it/wp-content/uploads/2018/04/Schermata-2018-06-12-alle-18.25.01.png
ORGANIZER;CN="ASD%20ENS%20Scaligera":MAILTO:usensscaligeraverona@attivita.fssi.it
END:VEVENT
END:VCALENDAR