BEGIN:VCALENDAR
VERSION:2.0
PRODID:-//FSSI - ECPv4.9.13//NONSGML v1.0//EN
CALSCALE:GREGORIAN
METHOD:PUBLISH
X-WR-CALNAME:FSSI
X-ORIGINAL-URL:https://attivita.fssi.it
X-WR-CALDESC:Eventi per FSSI
BEGIN:VTIMEZONE
TZID:Europe/Rome
BEGIN:DAYLIGHT
TZOFFSETFROM:+0100
TZOFFSETTO:+0200
TZNAME:CEST
DTSTART:20180325T010000
END:DAYLIGHT
BEGIN:STANDARD
TZOFFSETFROM:+0200
TZOFFSETTO:+0100
TZNAME:CET
DTSTART:20181028T010000
END:STANDARD
END:VTIMEZONE
BEGIN:VEVENT
DTSTART;VALUE=DATE:20180609
DTEND;VALUE=DATE:20180610
DTSTAMP:20260420T212120
CREATED:20180514T131306Z
LAST-MODIFIED:20180615T155845Z
UID:19135-1528502400-1528588799@attivita.fssi.it
SUMMARY:GOLF SU PISTA - Campionato Regionale
DESCRIPTION:Il giorno Sabato 9 Giugno presso il Centro Sportivo Minigolf “Montegrotto” si terrà il Campionato Regionale FSSI Veneto di Golf su Pista \n
URL:https://attivita.fssi.it/calendario/golf-su-pista-campionato-regionale/
LOCATION:Minigolf Montegrotto\, Via Caposeda\, Montegrotto Terme\, 35036
CATEGORIES:Golf su Pista M/F
ATTACH;FMTTYPE=image/png:https://attivita.fssi.it/wp-content/uploads/2018/05/Schermata-2018-05-14-alle-15.09.31.png
ORGANIZER;CN="ASD%20ENS%20Venezia":MAILTO:asdensvenezia@attivita.fssi.it
END:VEVENT
END:VCALENDAR