BEGIN:VCALENDAR
VERSION:2.0
PRODID:-//FSSI - ECPv4.9.13//NONSGML v1.0//EN
CALSCALE:GREGORIAN
METHOD:PUBLISH
X-WR-CALNAME:FSSI
X-ORIGINAL-URL:https://attivita.fssi.it
X-WR-CALDESC:Eventi per FSSI
BEGIN:VTIMEZONE
TZID:Europe/Rome
BEGIN:DAYLIGHT
TZOFFSETFROM:+0100
TZOFFSETTO:+0200
TZNAME:CEST
DTSTART:20160327T010000
END:DAYLIGHT
BEGIN:STANDARD
TZOFFSETFROM:+0200
TZOFFSETTO:+0100
TZNAME:CET
DTSTART:20161030T010000
END:STANDARD
END:VTIMEZONE
BEGIN:VEVENT
DTSTART;TZID=Europe/Rome:20160116T080000
DTEND;TZID=Europe/Rome:20160117T170000
DTSTAMP:20260421T052510
CREATED:20151222T154647Z
LAST-MODIFIED:20151222T154854Z
UID:9782-1452931200-1453050000@attivita.fssi.it
SUMMARY:Coppa Italia di Calcio A5
DESCRIPTION:Nei giorni 16 e 17 Gennaio presso il Palazzetto dello Sport in via Salvador Allende a Sedriano (MI)\, si disputa la Final Four di Coppa Italia di Calcio A5. \nVisualizza il MANIFESTO di Coppa Italia Gennaio 2016 \n  \n  \n  \n
URL:https://attivita.fssi.it/calendario/coppa-italia-di-calcio-a5/
CATEGORIES:Calcio A5
ATTACH;FMTTYPE=image/png:https://attivita.fssi.it/wp-content/uploads/2015/12/Schermata-2015-12-22-alle-16.45.26.png
END:VEVENT
END:VCALENDAR