BEGIN:VCALENDAR
VERSION:2.0
PRODID:-//FSSI - ECPv4.9.13//NONSGML v1.0//EN
CALSCALE:GREGORIAN
METHOD:PUBLISH
X-WR-CALNAME:FSSI
X-ORIGINAL-URL:https://attivita.fssi.it
X-WR-CALDESC:Eventi per FSSI
BEGIN:VTIMEZONE
TZID:Europe/Rome
BEGIN:DAYLIGHT
TZOFFSETFROM:+0100
TZOFFSETTO:+0200
TZNAME:CEST
DTSTART:20170326T010000
END:DAYLIGHT
BEGIN:STANDARD
TZOFFSETFROM:+0200
TZOFFSETTO:+0100
TZNAME:CET
DTSTART:20171029T010000
END:STANDARD
END:VTIMEZONE
BEGIN:VEVENT
DTSTART;TZID=Europe/Rome:20170204T080000
DTEND;TZID=Europe/Rome:20170204T170000
DTSTAMP:20260420T155654
CREATED:20170202T165329Z
LAST-MODIFIED:20170202T165329Z
UID:13222-1486195200-1486227600@attivita.fssi.it
SUMMARY:Campionato Regionale FSSI di Calcio Balilla
DESCRIPTION:L’A.S.D. Gruppo Sportivo Silenziosi Patavini organizza con la collaborazione del Comitato Regionale FSSI veneto e la Sala “Big Bowling” di Rubano (PD) il Campionato Regionale FSSI Veneto di Calcio Balilla che si svolgerà a Rubano (PD) in via Rossi 2\, nella giornata di Sabato 4 Febbraio 2017 \nVisualizza gli allegati:\nProgramma Campionato Regionale FSSI di Calcio Balilla  \n
URL:https://attivita.fssi.it/calendario/campionato-regionale-fssi-di-calcio-balilla/
LOCATION:Big Bowling\, Via Rossi 2\, Rubano\, 35030\, Italia
CATEGORIES:Calcio Balilla
ATTACH;FMTTYPE=image/png:https://attivita.fssi.it/wp-content/uploads/2017/02/Schermata-2017-02-02-alle-17.47.01.png
ORGANIZER;CN="ASD%20GSS%20Patavini":MAILTO:asdgsspatavini@attivita.fssi.it
END:VEVENT
END:VCALENDAR