BEGIN:VCALENDAR
VERSION:2.0
PRODID:-//FSSI - ECPv4.9.13//NONSGML v1.0//EN
CALSCALE:GREGORIAN
METHOD:PUBLISH
X-WR-CALNAME:FSSI
X-ORIGINAL-URL:https://attivita.fssi.it
X-WR-CALDESC:Eventi per FSSI
BEGIN:VTIMEZONE
TZID:Europe/Rome
BEGIN:DAYLIGHT
TZOFFSETFROM:+0100
TZOFFSETTO:+0200
TZNAME:CEST
DTSTART:20180325T010000
END:DAYLIGHT
BEGIN:STANDARD
TZOFFSETFROM:+0200
TZOFFSETTO:+0100
TZNAME:CET
DTSTART:20181028T010000
END:STANDARD
END:VTIMEZONE
BEGIN:VEVENT
DTSTART;VALUE=DATE:20180624
DTEND;VALUE=DATE:20180625
DTSTAMP:20260420T153638
CREATED:20180521T135052Z
LAST-MODIFIED:20180709T174114Z
UID:19210-1529798400-1529884799@attivita.fssi.it
SUMMARY:CALCIO BALILLA - Campionato Regionale
DESCRIPTION:Le gare avranno luogo Domenica 24 Giugno 2018\, nel locale King Bowling a Giammoro. Possono partecipare al campionato i giocatori sordi\, purché in possesso della tessera FSSI regolarmente vidimata per la stagione sportiva 2017/2018 e si svolge regolarmente se raggiunge il minimo di 3 società. \nVisualizza gli allegati:\nCALCIO BALILLA CAMPIONATO REGIONALE 24-06-2018 \n
URL:https://attivita.fssi.it/calendario/calcio-balilla-campionato-regionale-2/
LOCATION:King Bowling\, Via Nazionale 399\, Pace del Mela\, 98042\, Italia
CATEGORIES:Calcio Balilla
ATTACH;FMTTYPE=image/png:https://attivita.fssi.it/wp-content/uploads/2018/05/Schermata-2018-05-21-alle-15.43.55.png
ORGANIZER;CN="ASD%20GS%20ENS%20Messina":MAILTO:gsensmessina@attivita.fssi.it
END:VEVENT
END:VCALENDAR