BEGIN:VCALENDAR
VERSION:2.0
PRODID:-//FSSI - ECPv4.9.13//NONSGML v1.0//EN
CALSCALE:GREGORIAN
METHOD:PUBLISH
X-WR-CALNAME:FSSI
X-ORIGINAL-URL:https://attivita.fssi.it
X-WR-CALDESC:Eventi per FSSI
BEGIN:VTIMEZONE
TZID:Europe/Rome
BEGIN:DAYLIGHT
TZOFFSETFROM:+0100
TZOFFSETTO:+0200
TZNAME:CEST
DTSTART:20180325T010000
END:DAYLIGHT
BEGIN:STANDARD
TZOFFSETFROM:+0200
TZOFFSETTO:+0100
TZNAME:CET
DTSTART:20181028T010000
END:STANDARD
END:VTIMEZONE
BEGIN:VEVENT
DTSTART;VALUE=DATE:20180623
DTEND;VALUE=DATE:20180624
DTSTAMP:20260420T192956
CREATED:20180407T193726Z
LAST-MODIFIED:20180626T155937Z
UID:18480-1529712000-1529798399@attivita.fssi.it
SUMMARY:CALCIO A5 – Campionato Regionale
DESCRIPTION:Il giorno 23 Giugno si terrà la Fase Finale di Calcio A5 del Campionato FSSI Regionale di Piemonte a ASTI (AT) \nVisualizza gli allegati:\nCENA Finale\nManifesto Finale \n
URL:https://attivita.fssi.it/calendario/calcio-a5-campionato-regionale-6/
LOCATION:Asti\, Asti\, 14100\, Italia
CATEGORIES:Calcio A5
ATTACH;FMTTYPE=image/png:https://attivita.fssi.it/wp-content/uploads/2018/04/Schermata-2018-06-21-alle-13.52.46.png
END:VEVENT
END:VCALENDAR