BEGIN:VCALENDAR
VERSION:2.0
PRODID:-//FSSI - ECPv4.9.13//NONSGML v1.0//EN
CALSCALE:GREGORIAN
METHOD:PUBLISH
X-WR-CALNAME:FSSI
X-ORIGINAL-URL:https://attivita.fssi.it
X-WR-CALDESC:Eventi per FSSI
BEGIN:VTIMEZONE
TZID:Europe/Rome
BEGIN:DAYLIGHT
TZOFFSETFROM:+0100
TZOFFSETTO:+0200
TZNAME:CEST
DTSTART:20180325T010000
END:DAYLIGHT
BEGIN:STANDARD
TZOFFSETFROM:+0200
TZOFFSETTO:+0100
TZNAME:CET
DTSTART:20181028T010000
END:STANDARD
END:VTIMEZONE
BEGIN:VEVENT
DTSTART;VALUE=DATE:20180616
DTEND;VALUE=DATE:20180617
DTSTAMP:20260421T011026
CREATED:20180407T192729Z
LAST-MODIFIED:20181011T132202Z
UID:18462-1529107200-1529193599@attivita.fssi.it
SUMMARY:CALCIO A5 – Campionato Regionale
DESCRIPTION:
URL:https://attivita.fssi.it/calendario/calcio-a5-campionato-regionale-5/
LOCATION:Biella\, Biella\, 13900\, Italia
CATEGORIES:Calcio A5
ATTACH;FMTTYPE=image/png:https://attivita.fssi.it/wp-content/uploads/2018/04/Schermata-2018-06-12-alle-18.15.02.png
ORGANIZER;CN="ASD%20Sordi%20Biella":MAILTO:asdsordibiella@attivita.fssi.it
END:VEVENT
END:VCALENDAR