BEGIN:VCALENDAR
VERSION:2.0
PRODID:-//FSSI - ECPv4.9.13//NONSGML v1.0//EN
CALSCALE:GREGORIAN
METHOD:PUBLISH
X-WR-CALNAME:FSSI
X-ORIGINAL-URL:https://attivita.fssi.it
X-WR-CALDESC:Eventi per FSSI
BEGIN:VTIMEZONE
TZID:Europe/Rome
BEGIN:DAYLIGHT
TZOFFSETFROM:+0100
TZOFFSETTO:+0200
TZNAME:CEST
DTSTART:20180325T010000
END:DAYLIGHT
BEGIN:STANDARD
TZOFFSETFROM:+0200
TZOFFSETTO:+0100
TZNAME:CET
DTSTART:20181028T010000
END:STANDARD
END:VTIMEZONE
BEGIN:VEVENT
DTSTART;VALUE=DATE:20180908
DTEND;VALUE=DATE:20180910
DTSTAMP:20260420T230158
CREATED:20180407T194719Z
LAST-MODIFIED:20180913T203911Z
UID:18494-1536364800-1536537599@attivita.fssi.it
SUMMARY:BOWLING – Doppio Misto e All Events
DESCRIPTION:Dal 08 al 09 Settembre 2018 si svolgerà presso il centro Bowling SottoSopra di Modena\, il Campionato Italiano F.S.S.I. di Bowling\, specialità di All Event e Doppio Misto\, approvato dalla F.S.S.I. e sotto la responsabilità dell’ASD Club Sportivo Sordi Faenza. \nVisualizza gli allegati:\nProgramma-Campionato-Italiano-FSSI-Bowling-All-Event-e-Doppio-Misto\n01 – Lettera di comunicazione della richiesta conferma_\n02 – Adesioni alla Finale Italiana Maschile\n03 – Adesioni alla Finale Italiana Femminile \n
URL:https://attivita.fssi.it/calendario/bowling-doppio-misto-e-all-events/
LOCATION:Modena\, Modena\, 41100\, Italia
CATEGORIES:Bowling M/F
ATTACH;FMTTYPE=image/png:https://attivita.fssi.it/wp-content/uploads/2018/04/Schermata-2018-07-03-alle-09.22.53.png
ORGANIZER;CN="ASD%20CSS%20Faenza":MAILTO:asdcssfaenza@attivita.fssi.it
END:VEVENT
END:VCALENDAR