BEGIN:VCALENDAR
VERSION:2.0
PRODID:-//FSSI - ECPv4.9.13//NONSGML v1.0//EN
CALSCALE:GREGORIAN
METHOD:PUBLISH
X-WR-CALNAME:FSSI
X-ORIGINAL-URL:https://attivita.fssi.it
X-WR-CALDESC:Eventi per FSSI
BEGIN:VTIMEZONE
TZID:Europe/Rome
BEGIN:DAYLIGHT
TZOFFSETFROM:+0100
TZOFFSETTO:+0200
TZNAME:CEST
DTSTART:20180325T010000
END:DAYLIGHT
BEGIN:STANDARD
TZOFFSETFROM:+0200
TZOFFSETTO:+0100
TZNAME:CET
DTSTART:20181028T010000
END:STANDARD
END:VTIMEZONE
BEGIN:VEVENT
DTSTART;VALUE=DATE:20180922
DTEND;VALUE=DATE:20180924
DTSTAMP:20260421T033657
CREATED:20180418T115959Z
LAST-MODIFIED:20180924T172116Z
UID:18740-1537574400-1537747199@attivita.fssi.it
SUMMARY:BOCCE METALLICHE – Individuale e Terne
DESCRIPTION:La F.S.S.I. (Federazione Sport Sordi Italia)\, indice ed organizza con collaborazione dell’ A.S.D. Gruppo Sportivo Sordi Pordenone e con l’assistenza della F.I.B. Nei giorni di Sabato 22 e Domenica 23 settembre 2018\, ad AVIANO (PN)\, Campionato Italiano F.S.S.I. di Bocce “Metalliche” Individuale (Maschile e Femminile) e A Terne per tutti gli atleti sordi. \nVisualizza gli allegati:\nProgramma Campionato Italiano Bocce Metalliche Individuale e a Terne\nModulo Iscrizione Individuale e a Terne \n
URL:https://attivita.fssi.it/calendario/bocce-metalliche-individuale-e-terne/
LOCATION:Pordenone\, Pordenone\, 33170\, Italia
CATEGORIES:Bocce
ATTACH;FMTTYPE=image/png:https://attivita.fssi.it/wp-content/uploads/2018/04/Schermata-2018-07-13-alle-14.38.18.png
ORGANIZER;CN="GSS%20Pordenone":MAILTO:gsspordenone@attivita.fssi.it
END:VEVENT
END:VCALENDAR