BEGIN:VCALENDAR
VERSION:2.0
PRODID:-//FSSI - ECPv4.9.13//NONSGML v1.0//EN
CALSCALE:GREGORIAN
METHOD:PUBLISH
X-WR-CALNAME:FSSI
X-ORIGINAL-URL:https://attivita.fssi.it
X-WR-CALDESC:Eventi per FSSI
BEGIN:VTIMEZONE
TZID:Europe/Rome
BEGIN:DAYLIGHT
TZOFFSETFROM:+0100
TZOFFSETTO:+0200
TZNAME:CEST
DTSTART:20150329T010000
END:DAYLIGHT
BEGIN:STANDARD
TZOFFSETFROM:+0200
TZOFFSETTO:+0100
TZNAME:CET
DTSTART:20151025T010000
END:STANDARD
END:VTIMEZONE
BEGIN:VEVENT
DTSTART;TZID=Europe/Rome:20150314T080000
DTEND;TZID=Europe/Rome:20150314T170000
DTSTAMP:20260421T023702
CREATED:20150227T161505Z
LAST-MODIFIED:20150311T120137Z
UID:7130-1426320000-1426352400@attivita.fssi.it
SUMMARY:Biliardo a Stecca "Italiana"
DESCRIPTION:Il Gruppo Sportivo Sordi Modena A.S.D. con l’egida della FSSI (Federazione Sport Sordi Italia) e con la collaborazione della FIBIS (Federazione Italiana Biliardo Sportivo) organizza sabato 14 Marzo 2015 il Campionato Italiano FSSI di Biliardo a Stecca “Italiana”. \nVisualizza il programma: Biliardo a Stecca ITALIANA 2015\nComunicazione urgente: COMUNICAZIONE URGENTE BILIARDO 14-3-2015 \n
URL:https://attivita.fssi.it/calendario/biliardo-a-stecca-italiana-2/
LOCATION:Circolo Ghirlandina\, Modena
CATEGORIES:Biliardo
ATTACH;FMTTYPE=image/png:https://attivita.fssi.it/wp-content/uploads/2015/02/Schermata-2015-03-11-alle-13.00.11.png
END:VEVENT
END:VCALENDAR