BEGIN:VCALENDAR
VERSION:2.0
PRODID:-//FSSI - ECPv4.9.13//NONSGML v1.0//EN
CALSCALE:GREGORIAN
METHOD:PUBLISH
X-WR-CALNAME:FSSI
X-ORIGINAL-URL:https://attivita.fssi.it
X-WR-CALDESC:Eventi per FSSI
BEGIN:VTIMEZONE
TZID:Europe/Rome
BEGIN:DAYLIGHT
TZOFFSETFROM:+0100
TZOFFSETTO:+0200
TZNAME:CEST
DTSTART:20190331T010000
END:DAYLIGHT
BEGIN:STANDARD
TZOFFSETFROM:+0200
TZOFFSETTO:+0100
TZNAME:CET
DTSTART:20191027T010000
END:STANDARD
END:VTIMEZONE
BEGIN:VEVENT
DTSTART;VALUE=DATE:20190629
DTEND;VALUE=DATE:20190701
DTSTAMP:20260421T040729
CREATED:20181203T224917Z
LAST-MODIFIED:20190711T170137Z
UID:22543-1561766400-1561939199@attivita.fssi.it
SUMMARY:BEACH VOLLEY
DESCRIPTION:Visualizza gli allegati:\nProgramma Campionato Italiano Beach Volley\nModulo di iscrizione Campionato Italiano Beach Volley \n
URL:https://attivita.fssi.it/calendario/beach-volley/
LOCATION:Ostia (RM)\, Via Quinqueremi\, 100\, Roma\, 00122\, Italia
CATEGORIES:Beach Volley M/F
ATTACH;FMTTYPE=image/png:https://attivita.fssi.it/wp-content/uploads/2018/12/Manifesto-Campionato-Italiano-Beach-Volley.png
END:VEVENT
END:VCALENDAR