BEGIN:VCALENDAR
VERSION:2.0
PRODID:-//FSSI - ECPv4.9.13//NONSGML v1.0//EN
CALSCALE:GREGORIAN
METHOD:PUBLISH
X-WR-CALNAME:FSSI
X-ORIGINAL-URL:https://attivita.fssi.it
X-WR-CALDESC:Eventi per FSSI
BEGIN:VTIMEZONE
TZID:Europe/Rome
BEGIN:DAYLIGHT
TZOFFSETFROM:+0100
TZOFFSETTO:+0200
TZNAME:CEST
DTSTART:20180325T010000
END:DAYLIGHT
BEGIN:STANDARD
TZOFFSETFROM:+0200
TZOFFSETTO:+0100
TZNAME:CET
DTSTART:20181028T010000
END:STANDARD
END:VTIMEZONE
BEGIN:VEVENT
DTSTART;VALUE=DATE:20180707
DTEND;VALUE=DATE:20180708
DTSTAMP:20260420T212000
CREATED:20180615T105927Z
LAST-MODIFIED:20180711T211435Z
UID:19806-1530921600-1531007999@attivita.fssi.it
SUMMARY:BEACH VOLLEY - Campionato Regionale
DESCRIPTION:
URL:https://attivita.fssi.it/calendario/beach-volley-campionato-regionale/
LOCATION:Sottomarina (VE)\, Sottomarina Chioggia (VE)\, Italia\, 30015
CATEGORIES:Beach Volley M/F
ATTACH;FMTTYPE=image/jpeg:https://attivita.fssi.it/wp-content/uploads/2018/06/beach-volley-7-luglio-2018.jpg
ORGANIZER;CN="ASD%20ENS%20Scaligera":MAILTO:usensscaligeraverona@attivita.fssi.it
END:VEVENT
END:VCALENDAR