BEGIN:VCALENDAR
VERSION:2.0
PRODID:-//FSSI - ECPv4.9.13//NONSGML v1.0//EN
CALSCALE:GREGORIAN
METHOD:PUBLISH
X-WR-CALNAME:FSSI
X-ORIGINAL-URL:https://attivita.fssi.it
X-WR-CALDESC:Eventi per FSSI
BEGIN:VTIMEZONE
TZID:Europe/Rome
BEGIN:DAYLIGHT
TZOFFSETFROM:+0100
TZOFFSETTO:+0200
TZNAME:CEST
DTSTART:20180325T010000
END:DAYLIGHT
BEGIN:STANDARD
TZOFFSETFROM:+0200
TZOFFSETTO:+0100
TZNAME:CET
DTSTART:20181028T010000
END:STANDARD
END:VTIMEZONE
BEGIN:VEVENT
DTSTART;VALUE=DATE:20180908
DTEND;VALUE=DATE:20180909
DTSTAMP:20260421T004856
CREATED:20180703T105935Z
LAST-MODIFIED:20180926T105254Z
UID:20239-1536364800-1536451199@attivita.fssi.it
SUMMARY:BEACH BOCCE - Campionato Italiano
DESCRIPTION:L’ASD ENS Venezia con l’assistenza tecnica della F.I.B. (Federazione Italiana Bocce) e con la collaborazione della Federazione Sport Sordi Italia organizza Il CAMPIONATO ITALIANO F.S.S.I di BEACH BOCCE Individuale e a Coppia per tutti gli atleti sordi. \nVisualizza gli allegati:\nModuli Iscrizione\nProgramma Campionato Italiano FSSI Beach Bocce\nRegolamento Beach Bocce \n
URL:https://attivita.fssi.it/calendario/beach-bocce-campionato-italiano/
LOCATION:Venezia\, Via Roma\, 60\, Venezia\, Italia\, 30100\, Italia
CATEGORIES:Bocce
ATTACH;FMTTYPE=image/png:https://attivita.fssi.it/wp-content/uploads/2018/07/Schermata-2018-08-02-alle-17.16.43.png
ORGANIZER;CN="ASD%20ENS%20Venezia":MAILTO:asdensvenezia@attivita.fssi.it
END:VEVENT
END:VCALENDAR