BEGIN:VCALENDAR
VERSION:2.0
PRODID:-//FSSI - ECPv4.9.13//NONSGML v1.0//EN
CALSCALE:GREGORIAN
METHOD:PUBLISH
X-WR-CALNAME:FSSI
X-ORIGINAL-URL:https://attivita.fssi.it
X-WR-CALDESC:Eventi per FSSI
BEGIN:VTIMEZONE
TZID:Europe/Rome
BEGIN:DAYLIGHT
TZOFFSETFROM:+0100
TZOFFSETTO:+0200
TZNAME:CEST
DTSTART:20190331T010000
END:DAYLIGHT
BEGIN:STANDARD
TZOFFSETFROM:+0200
TZOFFSETTO:+0100
TZNAME:CET
DTSTART:20191027T010000
END:STANDARD
END:VTIMEZONE
BEGIN:VEVENT
DTSTART;VALUE=DATE:20190310
DTEND;VALUE=DATE:20190311
DTSTAMP:20260421T011143
CREATED:20190109T101615Z
LAST-MODIFIED:20190315T130718Z
UID:22766-1552176000-1552262399@attivita.fssi.it
SUMMARY:ATLETICA LEGGERA - Mezza Maratona
DESCRIPTION:Programma-Campionato Italiano FSSI – MezzaMaratona-2019La manifestazione\, denominata “Campionato Italiano F.S.S.I. di Mezza Maratona km. 21\,09Km’\, è inserita nella manifestazione podistica internazionale denominata “45° Huawei Roma Ostia Half Marathon” \nVisualizza allegati: \n
URL:https://attivita.fssi.it/calendario/atletica-leggera-mezza-maratona-2/
LOCATION:Ostia (RM)\, Via Quinqueremi\, 100\, Roma\, 00122\, Italia
CATEGORIES:Atletica
ATTACH;FMTTYPE=image/png:https://attivita.fssi.it/wp-content/uploads/2019/01/Schermata-2019-01-24-alle-14.41.27.png
ORGANIZER;CN="ASD%20PS%20Romana":MAILTO:asdpsromana@attivita.fssi.it
END:VEVENT
END:VCALENDAR