BEGIN:VCALENDAR
VERSION:2.0
PRODID:-//FSSI - ECPv4.9.13//NONSGML v1.0//EN
CALSCALE:GREGORIAN
METHOD:PUBLISH
X-WR-CALNAME:FSSI
X-ORIGINAL-URL:https://attivita.fssi.it
X-WR-CALDESC:Eventi per FSSI
BEGIN:VTIMEZONE
TZID:Europe/Rome
BEGIN:DAYLIGHT
TZOFFSETFROM:+0100
TZOFFSETTO:+0200
TZNAME:CEST
DTSTART:20180325T010000
END:DAYLIGHT
BEGIN:STANDARD
TZOFFSETFROM:+0200
TZOFFSETTO:+0100
TZNAME:CET
DTSTART:20181028T010000
END:STANDARD
END:VTIMEZONE
BEGIN:VEVENT
DTSTART;VALUE=DATE:20180707
DTEND;VALUE=DATE:20180708
DTSTAMP:20260420T193047
CREATED:20180515T093929Z
LAST-MODIFIED:20180710T120505Z
UID:19167-1530921600-1531007999@attivita.fssi.it
SUMMARY:ATLETICA LEGGERA - Maratona 10km
DESCRIPTION:Il Campionato Italiano F.S.S.I. è organizzato dalla Federazione Sport Sordi Italia con la collaborazione della società A.S.D. P.S.P. Napoli e con il supporto tecnico del DIRETTORE TECNICO Atletica Leggera F.S.S.I. La gara è valida per l’assegnazione del Titolo di Campione Italiano F.S.S.I. \nVisualizza gli allegati:\nProgramma Campionato Italiano FSSI Maratona 10km \n
URL:https://attivita.fssi.it/calendario/atletica-leggera-maratona-10km/
LOCATION:Marcianise\, Marcianise\, 81025\, Italia
CATEGORIES:Atletica
ATTACH;FMTTYPE=image/png:https://attivita.fssi.it/wp-content/uploads/2018/05/Schermata-2018-05-30-alle-10.09.17.png
ORGANIZER;CN="PSP%20Rubino%20Napoli":MAILTO:psprubinonapoli@attivita.fssi.it
END:VEVENT
END:VCALENDAR