BEGIN:VCALENDAR
VERSION:2.0
PRODID:-//FSSI - ECPv4.9.13//NONSGML v1.0//EN
CALSCALE:GREGORIAN
METHOD:PUBLISH
X-WR-CALNAME:FSSI
X-ORIGINAL-URL:https://attivita.fssi.it
X-WR-CALDESC:Eventi per FSSI
BEGIN:VTIMEZONE
TZID:Europe/Rome
BEGIN:DAYLIGHT
TZOFFSETFROM:+0100
TZOFFSETTO:+0200
TZNAME:CEST
DTSTART:20180325T010000
END:DAYLIGHT
BEGIN:STANDARD
TZOFFSETFROM:+0200
TZOFFSETTO:+0100
TZNAME:CET
DTSTART:20181028T010000
END:STANDARD
END:VTIMEZONE
BEGIN:VEVENT
DTSTART;VALUE=DATE:20181005
DTEND;VALUE=DATE:20181007
DTSTAMP:20260420T212204
CREATED:20181003T191815Z
LAST-MODIFIED:20181022T211319Z
UID:21024-1538697600-1538870399@attivita.fssi.it
SUMMARY:CORSA CAMPESTRE – Campionato Europeo
DESCRIPTION:
URL:https://attivita.fssi.it/calendario/atletica-leggera-campionato-europeo/
LOCATION:Bydgoszcz\, Bydgoszcz\, Poland
CATEGORIES:Atletica,Internazionale
ATTACH;FMTTYPE=image/jpeg:https://attivita.fssi.it/wp-content/uploads/2018/10/Bydgoszcz_18_plakat_4-845x1195.jpeg
ORGANIZER;CN="EDSO":MAILTO:info@edso.eu
END:VEVENT
END:VCALENDAR